BEGIN:VCALENDAR
VERSION:2.0
PRODID:Events Booking
BEGIN:VEVENT
UID:69ecf918d28d2
SUMMARY:(Not the)  End of Season Party
DESCRIPTION:A party to celebrate the first full summer season of ZISC.
LOCATION:GZ Wollishofen\, Bachstrasse\, Wollishofen\, Zürich
DTSTART:20221117T180000Z
DTEND:20221117T230000Z
DTSTAMP:20221016T151000Z
ORGANIZER;CN=ZISC Events:MAILTO:info@zisc.club
GEO:47.345358;8.536468
X-APPLE-STRUCTURED-LOCATION;VALUE=URI;X-ADDRESS=GZ Wollishofen\, Bachstrass
 e\, Wollishofen\, Zürich;X-APPLE-RADIUS=72;X-TITLE=Stäfa\, Wollishofen:4
 7.345358;8.536468
END:VEVENT
END:VCALENDAR