BEGIN:VCALENDAR
VERSION:2.0
PRODID:Events Booking
BEGIN:VEVENT
UID:69ece8f1cdfd0
SUMMARY:Team up with the Sunday sailors on Urnersee - Second Boat
DESCRIPTION:Team up with the Sunday sailors on Urnersee - on mOcean
LOCATION:Bootshafen\, Sisikon\, 6452 Uri\, Switzerland
DTSTART:20221023T120000Z
DTEND:20221023T160000Z
DTSTAMP:20221018T221756Z
ORGANIZER;CN=ZISC Events:MAILTO:info@zisc.club
GEO:46.95178;8.619711
X-APPLE-STRUCTURED-LOCATION;VALUE=URI;X-ADDRESS=Bootshafen\, Sisikon\, 6452
  Uri\, Switzerland;X-APPLE-RADIUS=72;X-TITLE=Sisikon Marina:46.95178;8.619
 711
END:VEVENT
END:VCALENDAR