BEGIN:VCALENDAR
VERSION:2.0
PRODID:Events Booking
BEGIN:VEVENT
UID:69ece9dbb4c16
SUMMARY:Weekly Club Sail
DESCRIPTION:Weekly Club Sail on Zürisee
LOCATION:Zurich\, 8038 Zurich\, Switzerland
DTSTART:20221211T143000Z
DTEND:20221211T173000Z
DTSTAMP:20221121T211055Z
ORGANIZER;CN=ZISC Events:MAILTO:info@zisc.club
GEO:47.340028;8.53864
X-APPLE-STRUCTURED-LOCATION;VALUE=URI;X-ADDRESS=Zurich\, 8038 Zurich\, Swit
 zerland;X-APPLE-RADIUS=72;X-TITLE=Wollishofen Marina:47.340028;8.53864
END:VEVENT
END:VCALENDAR