BEGIN:VCALENDAR
VERSION:2.0
PRODID:Events Booking
BEGIN:VEVENT
UID:69ecf8f81fe59
SUMMARY:Weekly Club Sail
DESCRIPTION:Weekly Club Sail on Zürisee
DTSTART:20230107T143000Z
DTEND:20230107T173000Z
DTSTAMP:20221121T211055Z
ORGANIZER;CN=ZISC Events:MAILTO:info@zisc.club
END:VEVENT
END:VCALENDAR