BEGIN:VCALENDAR
VERSION:2.0
PRODID:Events Booking
BEGIN:VEVENT
UID:69eced49d7d1a
SUMMARY:Weekly Club Sail
DESCRIPTION:Weekly Club Sail
LOCATION:Utoquai 6\, 8008 Zürich
DTSTART:20230218T143000Z
DTEND:20230218T173000Z
DTSTAMP:20221122T174825Z
ORGANIZER;CN=ZISC Events:MAILTO:info@zisc.club
GEO:47.363772;8.545425
X-APPLE-STRUCTURED-LOCATION;VALUE=URI;X-ADDRESS=Utoquai 6\, 8008 Zürich;X-
 APPLE-RADIUS=72;X-TITLE=Lago Lounge:47.363772;8.545425
END:VEVENT
END:VCALENDAR