BEGIN:VCALENDAR
VERSION:2.0
PRODID:Events Booking
BEGIN:VEVENT
UID:69eced64d6716
SUMMARY:Thursday Social at Frau Gerolds
DESCRIPTION:Weekly Social
DTSTART:20221124T180000Z
DTEND:20221124T213000Z
DTSTAMP:20221124T113405Z
ORGANIZER;CN=ZISC Events:MAILTO:info@zisc.club
END:VEVENT
END:VCALENDAR