BEGIN:VCALENDAR
VERSION:2.0
PRODID:Events Booking
BEGIN:VEVENT
UID:69ed0b2fd21d9
SUMMARY:ZISC gets Festive
DESCRIPTION:Glühwein at Münsterhof
  
DTSTART:20221215T190000Z
DTEND:20221215T210000Z
DTSTAMP:20221212T150430Z
ORGANIZER;CN=ZISC Events:MAILTO:info@zisc.club
END:VEVENT
END:VCALENDAR