BEGIN:VCALENDAR
VERSION:2.0
PRODID:Events Booking
BEGIN:VEVENT
UID:69ecf0674abf2
SUMMARY:ZISC Med Rally 2023
DESCRIPTION:The incredible ZISC Med Rally\, 2023 Edition in Greece
DTSTART:20230923T000000Z
DTEND:20230930T000000Z
DTSTAMP:20221227T170749Z
ORGANIZER;CN=ZISC Events:MAILTO:info@zisc.club
END:VEVENT
END:VCALENDAR