BEGIN:VCALENDAR
VERSION:2.0
PRODID:Events Booking
BEGIN:VEVENT
UID:69ece70cab4ac
SUMMARY:Solent UK Race Series - March
DESCRIPTION:Helly Hansen Sunsail UK Race Series
LOCATION:Port Way\, Port Solent\, Portsmouth\, England\, PO6 4SU\, United K
 ingdom
DTSTART:20230324T090000Z
DTEND:20230326T170000Z
DTSTAMP:20221230T111154Z
ORGANIZER;CN=ZISC Events:MAILTO:info@zisc.club
GEO:50.842465;-1.102476
X-APPLE-STRUCTURED-LOCATION;VALUE=URI;X-ADDRESS=Port Way\, Port Solent\, Po
 rtsmouth\, England\, PO6 4SU\, United Kingdom;X-APPLE-RADIUS=72;X-TITLE=Po
 rt Solent Marina:50.842465;-1.102476
END:VEVENT
END:VCALENDAR