BEGIN:VCALENDAR
VERSION:2.0
PRODID:Events Booking
BEGIN:VEVENT
UID:69ecf8fddce1f
SUMMARY:Weekly Club Sail
DESCRIPTION:Sunset trip - on the Sauna Boat
LOCATION:Hafen Beiz\, Hafen Enge\, Zürich
DTSTART:20230403T180000Z
DTEND:20230403T210000Z
DTSTAMP:20230115T163504Z
ORGANIZER;CN=ZISC Events:MAILTO:info@zisc.club
GEO:47.361215;8.53569
X-APPLE-STRUCTURED-LOCATION;VALUE=URI;X-ADDRESS=Hafen Beiz\, Hafen Enge\, Z
 ürich;X-APPLE-RADIUS=72;X-TITLE=Hafen Beiz\, Enge:47.361215;8.53569
END:VEVENT
END:VCALENDAR