BEGIN:VCALENDAR
VERSION:2.0
PRODID:Events Booking
BEGIN:VEVENT
UID:69eced35a08d2
SUMMARY:Easy like a Saturday morning 
DESCRIPTION:
DTSTART:20230225T110000Z
DTEND:20230225T130000Z
DTSTAMP:20230224T205800Z
ORGANIZER;CN=ZISC Events:MAILTO:info@zisc.club
END:VEVENT
END:VCALENDAR