BEGIN:VCALENDAR
VERSION:2.0
PRODID:Events Booking
BEGIN:VEVENT
UID:69ed01d5c67a6
SUMMARY:Sunset Sail on Zürisee
DESCRIPTION:We'll take out the mOcean from Wollishofen and enjoy the lake w
 ith some good vibes. We meet on the northern pontoon on Hafen Wollishofen.
  Let us know if you'd like to join by pushing the registration button. 
LOCATION:Zurich\, 8038 Zurich\, Switzerland
DTSTART:20230524T183000Z
DTEND:20230524T210000Z
DTSTAMP:20230226T120127Z
ORGANIZER;CN=ZISC Events:MAILTO:info@zisc.club
GEO:47.340028;8.53864
X-APPLE-STRUCTURED-LOCATION;VALUE=URI;X-ADDRESS=Zurich\, 8038 Zurich\, Swit
 zerland;X-APPLE-RADIUS=72;X-TITLE=Wollishofen Marina:47.340028;8.53864
END:VEVENT
END:VCALENDAR