BEGIN:VCALENDAR
VERSION:2.0
PRODID:Events Booking
BEGIN:VEVENT
UID:69ed0cbae73bc
SUMMARY:Sunset Sail on Zürisee
DESCRIPTION:We'll take out the mOcean from Bellevue (Lago) and enjoy the la
 ke with some good vibes. We meet on the pontoon. Let us know if you'd like
  to join by pushing the registration button. 
LOCATION:Zurich\, 8038 Zurich\, Switzerland
DTSTART:20230809T180000Z
DTEND:20230809T210000Z
DTSTAMP:20230226T121447Z
ORGANIZER;CN=ZISC Events:MAILTO:info@zisc.club
GEO:47.340028;8.53864
X-APPLE-STRUCTURED-LOCATION;VALUE=URI;X-ADDRESS=Zurich\, 8038 Zurich\, Swit
 zerland;X-APPLE-RADIUS=72;X-TITLE=Wollishofen Marina:47.340028;8.53864
END:VEVENT
END:VCALENDAR