BEGIN:VCALENDAR
VERSION:2.0
PRODID:Events Booking
BEGIN:VEVENT
UID:69ed0198f0533
SUMMARY:Weekly Sail - Urnersee
DESCRIPTION:Monday afternoon sail on Urnersee
  
LOCATION:Bootshafen\, Sisikon\, 6452 Uri\, Switzerland
DTSTART:20230515T150000Z
DTEND:20230515T170000Z
DTSTAMP:20230226T134655Z
ORGANIZER;CN=ZISC Events:MAILTO:info@zisc.club
GEO:46.95178;8.619711
X-APPLE-STRUCTURED-LOCATION;VALUE=URI;X-ADDRESS=Bootshafen\, Sisikon\, 6452
  Uri\, Switzerland;X-APPLE-RADIUS=72;X-TITLE=Sisikon Marina:46.95178;8.619
 711
END:VEVENT
END:VCALENDAR