BEGIN:VCALENDAR
VERSION:2.0
PRODID:Events Booking
BEGIN:VEVENT
UID:69ed0cb82240c
SUMMARY:Sunday Sailing And Picturesque Lunch
DESCRIPTION:With a boat from Brunnen\, we will be enjoying an indulging but
  also slightly sporty Sunday afternoon on Lake of Lucern starting in Brunn
 en. We will stop for lunch across the lake in the somewhat historical plac
 e \"Zur Treib\".
DTSTART:20230820T120000Z
DTEND:20230820T163000Z
DTSTAMP:20230226T141611Z
ORGANIZER;CN=ZISC Events:MAILTO:info@zisc.club
END:VEVENT
END:VCALENDAR