BEGIN:VCALENDAR
VERSION:2.0
PRODID:Events Booking
BEGIN:VEVENT
UID:69ecf8f7ae421
SUMMARY:Weekly Club Sail
DESCRIPTION:Weekly Club Sail on J70 Argos on Zürichsee
DTSTART:20230918T173000Z
DTEND:20230918T193000Z
DTSTAMP:20230226T201800Z
ORGANIZER;CN=ZISC Events:MAILTO:info@zisc.club
END:VEVENT
END:VCALENDAR