BEGIN:VCALENDAR
VERSION:2.0
PRODID:Events Booking
BEGIN:VEVENT
UID:69ecf8f8918b6
SUMMARY:Weekly Club Sail
DESCRIPTION:Sunset sail on Zürichsee
DTSTART:20230410T183000Z
DTEND:20230410T203000Z
DTSTAMP:20230329T183842Z
ORGANIZER;CN=ZISC Events:MAILTO:info@zisc.club
END:VEVENT
END:VCALENDAR