BEGIN:VCALENDAR
VERSION:2.0
PRODID:Events Booking
BEGIN:VEVENT
UID:69ecf912cf540
SUMMARY:Weekly Social at Hafenkneipe
DESCRIPTION:Weekly Social at Hafenkneipe
DTSTART:20230330T183000Z
DTEND:20230330T213000Z
DTSTAMP:20230330T151035Z
ORGANIZER;CN=ZISC Events:MAILTO:info@zisc.club
END:VEVENT
END:VCALENDAR