BEGIN:VCALENDAR
VERSION:2.0
PRODID:Events Booking
BEGIN:VEVENT
UID:69ececa55a616
SUMMARY:Easy sailing 
DESCRIPTION:
LOCATION:Mythenquai\, Enge\, Kreis 2\, Zurich\, District Zurich\, Zurich\, 
 8002\, Switzerland
DTSTART:20230408T150000Z
DTEND:20230408T180000Z
DTSTAMP:20230407T060712Z
ORGANIZER;CN=ZISC Events:MAILTO:info@zisc.club
GEO:47.357839;8.536114
X-APPLE-STRUCTURED-LOCATION;VALUE=URI;X-ADDRESS=Mythenquai\, Enge\, Kreis 2
 \, Zurich\, District Zurich\, Zurich\, 8002\, Switzerland;X-APPLE-RADIUS=7
 2;X-TITLE=Argos J70 (Pontoon 1\, Enge):47.357839;8.536114
END:VEVENT
END:VCALENDAR