BEGIN:VCALENDAR
VERSION:2.0
PRODID:Events Booking
BEGIN:VEVENT
UID:69ece70a86923
SUMMARY:TGIF Sundowner Sailing
DESCRIPTION:We are going to take out the mOcean in Wollishofen for an Afte
 rwork Sailing and enjoy the sundown on lake Zurich.
 Meeting point will b
 e Wollishofen Marina on the northern pontoon 10min before start in order t
 o sail out at 6pm.
 The cost will divided by each participant and will be
  roughly CHF 20-30.- 
LOCATION:Seestrasse\, Zurich\, 8038 Zurich\, Switzerland
DTSTART:20230428T174500Z
DTEND:20230428T200000Z
DTSTAMP:20230411T202553Z
ORGANIZER;CN=ZISC Events:MAILTO:info@zisc.club
GEO:47.338252;8.540605
X-APPLE-STRUCTURED-LOCATION;VALUE=URI;X-ADDRESS=Seestrasse\, Zurich\, 8038 
 Zurich\, Switzerland;X-APPLE-RADIUS=72;X-TITLE=Wollishofen Marina:47.33825
 2;8.540605
END:VEVENT
END:VCALENDAR