BEGIN:VCALENDAR
VERSION:2.0
PRODID:Events Booking
BEGIN:VEVENT
UID:69ece6b9de3f6
SUMMARY:Fun Regatta - 7 o‘clock 
DESCRIPTION:The fun regatta takes place every Thursday evening in the Zuric
 h lake basin. Participation is open to everyone and free of charge. An ide
 al opportunity to get a taste of regatta air.
 (OPTIONAL) Afterwards ther
 e will be a little refreshment for all participants in the clubhouse of th
 e SCE (Segelclub Enge). Non-members are also welcome!
  
 !! PLEASE ARR
 IVE ON TIME AS THE REGATTA STARTS AT 7PM SHARP AND WE NEED TO BE IN THE WA
 TER BY THEN. !!
  
 We are going to take out the mOcean and divide the 
 costs equally between the participants. Normally CHF 25-30.- per Person. 
LOCATION:Seestrasse\, Zurich\, 8038 Zurich\, Switzerland
DTSTART:20230504T183000Z
DTEND:20230504T203000Z
DTSTAMP:20230411T203159Z
ORGANIZER;CN=ZISC Events:MAILTO:info@zisc.club
GEO:47.338252;8.540605
X-APPLE-STRUCTURED-LOCATION;VALUE=URI;X-ADDRESS=Seestrasse\, Zurich\, 8038 
 Zurich\, Switzerland;X-APPLE-RADIUS=72;X-TITLE=Wollishofen Marina:47.33825
 2;8.540605
END:VEVENT
END:VCALENDAR