BEGIN:VCALENDAR
VERSION:2.0
PRODID:Events Booking
BEGIN:VEVENT
UID:69ecfa30cef5f
SUMMARY:Sunset Sailing
DESCRIPTION:We are going to take out the two mOceans from Bellevue. Join 
 us! See you\, Rui and Andi
LOCATION:Utoquai\, Zurich\, 8008 Zurich\, Switzerland
DTSTART:20230510T180000Z
DTEND:20230510T200000Z
DTSTAMP:20230508T140648Z
ORGANIZER;CN=ZISC Events:MAILTO:info@zisc.club
GEO:47.363951;8.545518
X-APPLE-STRUCTURED-LOCATION;VALUE=URI;X-ADDRESS=Utoquai\, Zurich\, 8008 Zur
 ich\, Switzerland;X-APPLE-RADIUS=72;X-TITLE=Bellevue Bootsvermietung Lago:
 47.363951;8.545518
END:VEVENT
END:VCALENDAR