BEGIN:VCALENDAR
VERSION:2.0
PRODID:Events Booking
BEGIN:VEVENT
UID:69ed005c40e92
SUMMARY:Sunset Sailing
DESCRIPTION:We are going to take out the mOcean in Wollishofen for an Afte
 rwork Sailing and enjoy the sundown on lake Zurich.
 Meeting point will b
 e Wollishofen Marina on the nothern pontoon 10min before start in order to
  sail out at 6pm.
 The cost will divided by each participant and will be 
 roughly CHF 20-30.- per person. 
DTSTART:20230630T180000Z
DTEND:20230630T200000Z
DTSTAMP:20230509T155913Z
ORGANIZER;CN=ZISC Events:MAILTO:info@zisc.club
END:VEVENT
END:VCALENDAR