BEGIN:VCALENDAR
VERSION:2.0
PRODID:Events Booking
BEGIN:VEVENT
UID:69ececedcb31a
SUMMARY:Saturday sailing
DESCRIPTION:Saturday afternoon sailing
LOCATION:Forellenweg\, Zurich\, 8038 Zurich\, Switzerland
DTSTART:20230513T140000Z
DTEND:20230513T163000Z
DTSTAMP:20230510T112710Z
ORGANIZER;CN=ZISC Events:MAILTO:info@zisc.club
GEO:47.338496;8.540428
X-APPLE-STRUCTURED-LOCATION;VALUE=URI;X-ADDRESS=Forellenweg\, Zurich\, 8038
  Zurich\, Switzerland;X-APPLE-RADIUS=72;X-TITLE=Sailbox Wollishofen B:47.3
 38496;8.540428
END:VEVENT
END:VCALENDAR