BEGIN:VCALENDAR
VERSION:2.0
PRODID:Events Booking
BEGIN:VEVENT
UID:69ed0e20c06a4
SUMMARY:ZISC is going to the movies
DESCRIPTION:ZISC is going to the International Ocean Film Tour at the Volk
 shaus.
LOCATION:Stauffacherstrasse 60\, 8004 Zurich
DTSTART:20230514T193000Z
DTEND:20230514T223000Z
DTSTAMP:20230510T202946Z
ORGANIZER;CN=ZISC Events:MAILTO:info@zisc.club
GEO:47.375217;8.527252
X-APPLE-STRUCTURED-LOCATION;VALUE=URI;X-ADDRESS=Stauffacherstrasse 60\, 800
 4 Zurich;X-APPLE-RADIUS=72;X-TITLE=Volkshaus :47.375217;8.527252
END:VEVENT
END:VCALENDAR