BEGIN:VCALENDAR
VERSION:2.0
PRODID:Events Booking
BEGIN:VEVENT
UID:69ed005b2eb5d
SUMMARY:Sunset Sailing
DESCRIPTION:We'll take out the mOcean from Wollishofen and enjoy the lake w
 ith some good vibes. Let's meet 10 min before the ride. Let us know if you
 'd like to join by pushing the registration button. 
LOCATION:Zurich\, 8038 Zurich\, Switzerland
DTSTART:20230531T180000Z
DTEND:20230531T210000Z
DTSTAMP:20230517T202836Z
ORGANIZER;CN=ZISC Events:MAILTO:info@zisc.club
GEO:47.340028;8.53864
X-APPLE-STRUCTURED-LOCATION;VALUE=URI;X-ADDRESS=Zurich\, 8038 Zurich\, Swit
 zerland;X-APPLE-RADIUS=72;X-TITLE=Wollishofen Marina:47.340028;8.53864
END:VEVENT
END:VCALENDAR