BEGIN:VCALENDAR
VERSION:2.0
PRODID:Events Booking
BEGIN:VEVENT
UID:69ed0c14b9b5d
SUMMARY:Generalversammlung / AGM 2023
DESCRIPTION:Generalversammlung/ Annual General Meeting 2023
 FREE BEER AND
  WINE!
 On Stäfa\, Wollishofen from 19h00 Thursday 15th June.
  
 You
  need to register here to attend.
LOCATION:GZ Wollishofen\, Bachstrasse\, Wollishofen\, Zürich
DTSTART:20230615T190000Z
DTEND:20230615T210000Z
DTSTAMP:20230518T174454Z
ORGANIZER;CN=ZISC Events:MAILTO:info@zisc.club
GEO:47.345358;8.536468
X-APPLE-STRUCTURED-LOCATION;VALUE=URI;X-ADDRESS=GZ Wollishofen\, Bachstrass
 e\, Wollishofen\, Zürich;X-APPLE-RADIUS=72;X-TITLE=Stäfa\, Wollishofen:4
 7.345358;8.536468
END:VEVENT
END:VCALENDAR