BEGIN:VCALENDAR
VERSION:2.0
PRODID:Events Booking
BEGIN:VEVENT
UID:69eced10dd851
SUMMARY:AW Sailing + GV (optional)
DESCRIPTION: 
 After-work fun sail + ZISC annual meeting GV in the city (
 optional)
LOCATION:Forellenweg\, Zurich\, 8038 Zurich\, Switzerland
DTSTART:20230615T170000Z
DTEND:20230615T184500Z
DTSTAMP:20230523T082822Z
ORGANIZER;CN=ZISC Events:MAILTO:info@zisc.club
GEO:47.338496;8.540428
X-APPLE-STRUCTURED-LOCATION;VALUE=URI;X-ADDRESS=Forellenweg\, Zurich\, 8038
  Zurich\, Switzerland;X-APPLE-RADIUS=72;X-TITLE=Wollishofen A:47.338496;8.
 540428
END:VEVENT
END:VCALENDAR