BEGIN:VCALENDAR
VERSION:2.0
PRODID:Events Booking
BEGIN:VEVENT
UID:69eced0428160
SUMMARY:Whit Monday Sail
DESCRIPTION:Sunny sailing on the Sunbeam cruiser
LOCATION:Hafen Mythenquai
DTSTART:20230529T130000Z
DTEND:20230529T150000Z
DTSTAMP:20230526T082342Z
ORGANIZER;CN=ZISC Events:MAILTO:info@zisc.club
GEO:47.357907;8.536745
X-APPLE-STRUCTURED-LOCATION;VALUE=URI;X-ADDRESS=Hafen Mythenquai;X-APPLE-RA
 DIUS=72;X-TITLE=Mythenquai\, jetty by the rowing clubs:47.357907;8.536745
END:VEVENT
END:VCALENDAR