BEGIN:VCALENDAR
VERSION:2.0
PRODID:Events Booking
BEGIN:VEVENT
UID:69ececba066c5
SUMMARY:Afterwork sailing
DESCRIPTION:NEW TIME: Thursday Sundowner 
LOCATION:Hafen Wollishofen
DTSTART:20230713T180000Z
DTEND:20230713T203000Z
DTSTAMP:20230526T091154Z
ORGANIZER;CN=ZISC Events:MAILTO:info@zisc.club
GEO:47.340452;8.539284
X-APPLE-STRUCTURED-LOCATION;VALUE=URI;X-ADDRESS=Hafen Wollishofen;X-APPLE-R
 ADIUS=72;X-TITLE=Wollishofen A:47.340452;8.539284
END:VEVENT
END:VCALENDAR