BEGIN:VCALENDAR
VERSION:2.0
PRODID:Events Booking
BEGIN:VEVENT
UID:69eced0434e07
SUMMARY:Friday Sundowner
DESCRIPTION:Friday After-work sailing
LOCATION:Hafen Wollishofen
DTSTART:20230721T180000Z
DTEND:20230721T203000Z
DTSTAMP:20230526T091819Z
ORGANIZER;CN=ZISC Events:MAILTO:info@zisc.club
GEO:47.340452;8.539284
X-APPLE-STRUCTURED-LOCATION;VALUE=URI;X-ADDRESS=Hafen Wollishofen;X-APPLE-R
 ADIUS=72;X-TITLE=Wollishofen A:47.340452;8.539284
END:VEVENT
END:VCALENDAR