BEGIN:VCALENDAR
VERSION:2.0
PRODID:Events Booking
BEGIN:VEVENT
UID:69ecf8f85afa6
SUMMARY:Sailing in Lake Lucerne
DESCRIPTION:Welcome to Saturday Afternoon Sailing in Lake Lucerne! 
 Meet
 ing point is Vierwaldstättersee Luzern - Tribschenhorn (10 min. from HB
 )
 The plan is to explore the lake\, route will be decided accordingly to
  wind condition 
 Boat: J 70 
  
  
LOCATION:Lucerne\, Switzerland
DTSTART:20230617T143000Z
DTEND:20230617T180000Z
DTSTAMP:20230607T213700Z
ORGANIZER;CN=ZISC Events:MAILTO:info@zisc.club
GEO:47.050545;8.305468
X-APPLE-STRUCTURED-LOCATION;VALUE=URI;X-ADDRESS=Lucerne\, Switzerland;X-APP
 LE-RADIUS=72;X-TITLE=Vierwaldstättersee Lucerne - Tribschenhorn:47.050545
 ;8.305468
END:VEVENT
END:VCALENDAR