BEGIN:VCALENDAR
VERSION:2.0
PRODID:Events Booking
BEGIN:VEVENT
UID:69ecf8fd96c01
SUMMARY:Sailing in Lake Lucerne
DESCRIPTION:Hey All\, 
 Following ZISC initial successful event in Lucern
 e\, let's keep exploring that beautiful lake! 
 Exact route will be deci
 ded depending by weather / wind. 
 On the day\, please check the weather
  and bring appropriate clothes. 
 Cost: CHF 25 pp 
  
  
LOCATION:Lucerne\, Switzerland
DTSTART:20230731T120000Z
DTEND:20230731T180000Z
DTSTAMP:20230726T123454Z
ORGANIZER;CN=ZISC Events:MAILTO:info@zisc.club
GEO:47.050545;8.305468
X-APPLE-STRUCTURED-LOCATION;VALUE=URI;X-ADDRESS=Lucerne\, Switzerland;X-APP
 LE-RADIUS=72;X-TITLE=Vierwaldstättersee Lucerne - Tribschenhorn:47.050545
 ;8.305468
END:VEVENT
END:VCALENDAR