BEGIN:VCALENDAR
VERSION:2.0
PRODID:Events Booking
BEGIN:VEVENT
UID:69ecf8f717bf0
SUMMARY:Sailing in Lake Lucerne 
DESCRIPTION:Lake Lucerne exploration 
LOCATION:Lucerne\, Switzerland
DTSTART:20230805T130000Z
DTEND:20230805T180000Z
DTSTAMP:20230804T043944Z
ORGANIZER;CN=ZISC Events:MAILTO:info@zisc.club
GEO:47.050545;8.305468
X-APPLE-STRUCTURED-LOCATION;VALUE=URI;X-ADDRESS=Lucerne\, Switzerland;X-APP
 LE-RADIUS=72;X-TITLE=Vierwaldstättersee Lucerne - Tribschenhorn:47.050545
 ;8.305468
END:VEVENT
END:VCALENDAR