BEGIN:VCALENDAR
VERSION:2.0
PRODID:Events Booking
BEGIN:VEVENT
UID:69ecf8ca2a570
SUMMARY:Costal Regatta Venice
DESCRIPTION:The Cinquanta is a 50 nautical miles coastal race starting from
  Caorle (Venice). We reserved a First 41.1. We will fly to Venice on Thurs
 day night\, on Friday we get to know the boat and train. Saturday race day
  and on Sunday we will sail to Venice with the first lights of the day. On
  Monday\, at sunrise\, we will say goodbye to the Lion of San Marco\, chec
 k out in Caorle and fly back. 
LOCATION:Marina dell’Orologio
DTSTART:20231019T000000Z
DTEND:20231023T000000Z
DTSTAMP:20230830T105806Z
ORGANIZER;CN=ZISC Events:MAILTO:info@zisc.club
GEO:42.76127;10.239236
X-APPLE-STRUCTURED-LOCATION;VALUE=URI;X-ADDRESS=Marina dell’Orologio;X-AP
 PLE-RADIUS=72;X-TITLE=Caorle:42.76127;10.239236
END:VEVENT
END:VCALENDAR