BEGIN:VCALENDAR
VERSION:2.0
PRODID:Events Booking
BEGIN:VEVENT
UID:69ecf8a3d424f
SUMMARY:Lake Sailing from Enge
DESCRIPTION:The Summer didn't say goodbye. Join us for another lake sailing
  from marina Enge at 17:00.
LOCATION:Hafen Beiz\, Hafen Enge\, Zürich
DTSTART:20231009T170000Z
DTEND:20231009T193000Z
DTSTAMP:20231008T171951Z
ORGANIZER;CN=ZISC Events:MAILTO:info@zisc.club
GEO:47.361215;8.53569
X-APPLE-STRUCTURED-LOCATION;VALUE=URI;X-ADDRESS=Hafen Beiz\, Hafen Enge\, Z
 ürich;X-APPLE-RADIUS=72;X-TITLE=Hafen Beiz\, Enge:47.361215;8.53569
END:VEVENT
END:VCALENDAR