BEGIN:VCALENDAR
VERSION:2.0
PRODID:Events Booking
BEGIN:VEVENT
UID:69ed0c451bbae
SUMMARY:ZISC Winter Series
DESCRIPTION:ZISC Winter Series. Details and registration to follow.
LOCATION:Switzerland
DTSTART:20240120T100000Z
DTEND:20240120T120000Z
DTSTAMP:20231122T114637Z
ORGANIZER;CN=ZISC Events:MAILTO:info@zisc.club
GEO:47.279096;8.597868
X-APPLE-STRUCTURED-LOCATION;VALUE=URI;X-ADDRESS=Switzerland;X-APPLE-RADIUS=
 72;X-TITLE=Lake Zurich:47.279096;8.597868
END:VEVENT
END:VCALENDAR