BEGIN:VCALENDAR
VERSION:2.0
PRODID:Events Booking
BEGIN:VEVENT
UID:69ecfa737d020
SUMMARY:ZISC Winter Series
DESCRIPTION:ZISC Winter Series.&nbsp\;
 Sailing is not only for the hot su
 mmer days!! Let's enjoy the winter days also on water.
 During this event
  I plan to test some special video effects by means of a drone or a specia
 l action camera.
 Wear warm/water proof clothes.
 Bringing hot drinks is
  also recommended.&nbsp\;
 Cost of the boat will be shared among the part
 icipants.
LOCATION:47.340088\, 8.538859
DTSTART:20240217T130000Z
DTEND:20240217T160000Z
DTSTAMP:20231122T114811Z
ORGANIZER;CN=ZISC Events:MAILTO:info@zisc.club
GEO:47.340088;8.538859
X-APPLE-STRUCTURED-LOCATION;VALUE=URI;X-ADDRESS=47.340088\, 8.538859;X-APPL
 E-RADIUS=72;X-TITLE=Hafen Wollishofen:47.340088;8.538859
END:VEVENT
END:VCALENDAR