BEGIN:VCALENDAR
VERSION:2.0
PRODID:Events Booking
BEGIN:VEVENT
UID:69ed0c0ae9aeb
SUMMARY:Full Moon sailing
DESCRIPTION:Full moon sailing on Zürisee. Details and Registration to foll
 ow.
LOCATION:Switzerland
DTSTART:20240325T183000Z
DTEND:20240325T210000Z
DTSTAMP:20231122T121617Z
ORGANIZER;CN=ZISC Events:MAILTO:info@zisc.club
GEO:47.279096;8.597868
X-APPLE-STRUCTURED-LOCATION;VALUE=URI;X-ADDRESS=Switzerland;X-APPLE-RADIUS=
 72;X-TITLE=Lake Zurich:47.279096;8.597868
END:VEVENT
END:VCALENDAR