BEGIN:VCALENDAR
VERSION:2.0
PRODID:Events Booking
BEGIN:VEVENT
UID:69ed0066e50f8
SUMMARY:ZISC Med Rally
DESCRIPTION:The Fabulous. The Famous. The Fabled.
 The ZISC Med Rally is b
 ack for 2024.
LOCATION:Γεωργίου Παπανδρέου\, Kos\, 853 00 Aegean\, Gree
 ce
DTSTART:20240921T090000Z
DTEND:20240928T090000Z
DTSTAMP:20231123T112029Z
ORGANIZER;CN=ZISC Events:MAILTO:info@zisc.club
GEO:36.890964;27.301682
X-APPLE-STRUCTURED-LOCATION;VALUE=URI;X-ADDRESS=Γεωργίου Παπαν
 δρέου\, Kos\, 853 00 Aegean\, Greece;X-APPLE-RADIUS=72;X-TITLE=Kos:36
 .890964;27.301682
END:VEVENT
END:VCALENDAR