BEGIN:VCALENDAR
VERSION:2.0
PRODID:Events Booking
BEGIN:VEVENT
UID:69ed2057a0ac7
SUMMARY:ZISC Agility Cup 2024
DESCRIPTION:The annual ZISC adventure-sail-racing-run-challenge-thing.
 &n
 bsp\;
LOCATION:Hafen Beiz\, Hafen Enge\, Zürich
DTSTART:20240714T120000Z
DTEND:20240714T160000Z
DTSTAMP:20231215T180510Z
ORGANIZER;CN=ZISC Events:MAILTO:info@zisc.club
GEO:47.361215;8.53569
X-APPLE-STRUCTURED-LOCATION;VALUE=URI;X-ADDRESS=Hafen Beiz\, Hafen Enge\, Z
 ürich;X-APPLE-RADIUS=72;X-TITLE=Hafen Beiz\, Enge:47.361215;8.53569
END:VEVENT
END:VCALENDAR