BEGIN:VCALENDAR
VERSION:2.0
PRODID:Events Booking
BEGIN:VEVENT
UID:69ecf912d49d4
SUMMARY:Regatta in ASCONA - Lake Maggiore
DESCRIPTION:Join ZISC in a regatta celebrating the 70th Birthday of Yacht C
 lub Ascona &nbsp\;!
 When: Saturday 1St June
 Boats: 3 Boats reserved by
  ZISC&nbsp\;
 Surprise 8m (X2)&nbsp\;&nbsp\;
 mOcean 8m (X1)&nbsp\;
DTSTART:20240531T200000Z
DTEND:20240601T220000Z
DTSTAMP:20240314T172122Z
ORGANIZER;CN=ZISC Events:MAILTO:info@zisc.club
END:VEVENT
END:VCALENDAR