BEGIN:VCALENDAR
VERSION:2.0
PRODID:Events Booking
BEGIN:VEVENT
UID:69eced10de801
SUMMARY:Full Moon Sailing
DESCRIPTION:Full Moon Sailing
LOCATION:Mythenquai\, Enge\, Kreis 2\, Zurich\, District Zurich\, Zurich\, 
 8002\, Switzerland
DTSTART:20240325T183000Z
DTEND:20240325T210000Z
DTSTAMP:20240323T090706Z
ORGANIZER;CN=ZISC Events:MAILTO:info@zisc.club
GEO:47.357839;8.536114
X-APPLE-STRUCTURED-LOCATION;VALUE=URI;X-ADDRESS=Mythenquai\, Enge\, Kreis 2
 \, Zurich\, District Zurich\, Zurich\, 8002\, Switzerland;X-APPLE-RADIUS=7
 2;X-TITLE=Argos J70 (Pontoon 1\, Enge):47.357839;8.536114
END:VEVENT
END:VCALENDAR