BEGIN:VCALENDAR
VERSION:2.0
PRODID:Events Booking
BEGIN:VEVENT
UID:69ecfee412458
SUMMARY:Full Moon Night Sailing Weekend
DESCRIPTION:Three night sails and around the Isle of Wight. Plus a chance t
 o explore three English fishing villages during the day.
LOCATION:Port Way\, Port Solent\, Portsmouth\, England\, PO6 4SU\, United K
 ingdom
DTSTART:20240815T170000Z
DTEND:20240818T170000Z
DTSTAMP:20240424T143315Z
ORGANIZER;CN=ZISC Events:MAILTO:info@zisc.club
GEO:50.842465;-1.102476
X-APPLE-STRUCTURED-LOCATION;VALUE=URI;X-ADDRESS=Port Way\, Port Solent\, Po
 rtsmouth\, England\, PO6 4SU\, United Kingdom;X-APPLE-RADIUS=72;X-TITLE=Po
 rt Solent Marina:50.842465;-1.102476
END:VEVENT
END:VCALENDAR