BEGIN:VCALENDAR
VERSION:2.0
PRODID:Events Booking
BEGIN:VEVENT
UID:69ed0c158f4b9
SUMMARY:Casual sailing 
DESCRIPTION:Casual sailing tomorrow\, there should be decent wind and not t
 oo cold (fingers crossed).&nbsp\;
LOCATION:Mythenquai\, Zurich\, 8002 Zurich\, Switzerland
DTSTART:20240501T150000Z
DTEND:20240501T180000Z
DTSTAMP:20240430T082546Z
ORGANIZER;CN=ZISC Events:MAILTO:info@zisc.club
GEO:47.361743;8.534785
X-APPLE-STRUCTURED-LOCATION;VALUE=URI;X-ADDRESS=Mythenquai\, Zurich\, 8002 
 Zurich\, Switzerland;X-APPLE-RADIUS=72;X-TITLE=Mythenquai - Coffee kiosk:4
 7.361743;8.534785
END:VEVENT
END:VCALENDAR