BEGIN:VCALENDAR
VERSION:2.0
PRODID:Events Booking
BEGIN:VEVENT
UID:69ed139beb726
SUMMARY:R44 Cup Brunnen
DESCRIPTION:Watching R44 Cup from lake and ashore
DTSTART:20240824T110000Z
DTEND:20240824T170000Z
DTSTAMP:20240430T103324Z
ORGANIZER;CN=ZISC Events:MAILTO:info@zisc.club
END:VEVENT
END:VCALENDAR