BEGIN:VCALENDAR
VERSION:2.0
PRODID:Events Booking
BEGIN:VEVENT
UID:69ed205256bcc
SUMMARY:Generalversammlung / AGM 2024
DESCRIPTION:Generalversammlung/ Annual General Meeting 2024
 FREE BEER AND
  WINE!
 On Stäfa\, Wollishofen from 18h30 Thursday 30th May.
LOCATION:GZ Wollishofen\, Bachstrasse\, Wollishofen\, Zürich
DTSTART:20240530T183000Z
DTEND:20240530T223000Z
DTSTAMP:20240503T130237Z
ORGANIZER;CN=ZISC Events:MAILTO:info@zisc.club
GEO:47.345358;8.536468
X-APPLE-STRUCTURED-LOCATION;VALUE=URI;X-ADDRESS=GZ Wollishofen\, Bachstrass
 e\, Wollishofen\, Zürich;X-APPLE-RADIUS=72;X-TITLE=Stäfa\, Wollishofen:4
 7.345358;8.536468
END:VEVENT
END:VCALENDAR