BEGIN:VCALENDAR
VERSION:2.0
PRODID:Events Booking
BEGIN:VEVENT
UID:69ecf856a9b86
SUMMARY:Chocolate Cup
DESCRIPTION:For the third year in a row ZISC takes part to the Schoggi Cup.
  A \"classic\" on the Zurichsee sponsoreds by Lindt. The regatta is a frie
 ndly one and will take place regardless of the wind\, or the lack of it\, 
 so bring some sunscreen.&nbsp\;At the prize giving there will be a BBQ\, d
 rinks (and chocolates) in the Kilchberg Yacht Club. The charter of the boa
 t and the regatta registration fee will be split (around 40chf per person)
 .&nbsp\;Best\, Dario
LOCATION:Hafen Beiz\, Hafen Enge\, Zürich
DTSTART:20240525T100000Z
DTEND:20240525T160000Z
DTSTAMP:20240521T092604Z
ORGANIZER;CN=ZISC Events:MAILTO:info@zisc.club
GEO:47.361215;8.53569
X-APPLE-STRUCTURED-LOCATION;VALUE=URI;X-ADDRESS=Hafen Beiz\, Hafen Enge\, Z
 ürich;X-APPLE-RADIUS=72;X-TITLE=Hafen Beiz\, Enge:47.361215;8.53569
END:VEVENT
END:VCALENDAR