BEGIN:VCALENDAR
VERSION:2.0
PRODID:Events Booking
BEGIN:VEVENT
UID:69ececee130ba
SUMMARY:Sunday sailing
DESCRIPTION:Join us for Sunday sailing!&nbsp\;
 We'll take it as it comes\
 , if we have good wind then be ready for an eventful Sunday on the ropes -
  if not then we'll probably be swimming and chilling :) Bring your bathing
  suit in any case!
 The cost is split among the participants\, fair rules
  apply - meaning if you're registered and cancel within 48 hours without a
 nyone to take your place then the participation cost is still to be paid v
 ia Twint.&nbsp\;
 To give people a fair chance and reduce the admin\, ple
 ase only register if you're available and committed to joining.&nbsp\;
 A
 'hoi\,
 Lisa
LOCATION:Forellenweg\, Zurich\, 8038 Zurich\, Switzerland
DTSTART:20240623T150000Z
DTSTAMP:20240615T102750Z
ORGANIZER;CN=ZISC Events:MAILTO:info@zisc.club
GEO:47.338496;8.540428
X-APPLE-STRUCTURED-LOCATION;VALUE=URI;X-ADDRESS=Forellenweg\, Zurich\, 8038
  Zurich\, Switzerland;X-APPLE-RADIUS=72;X-TITLE=Wollishofen A:47.338496;8.
 540428
END:VEVENT
END:VCALENDAR