BEGIN:VCALENDAR
VERSION:2.0
PRODID:Events Booking
BEGIN:VEVENT
UID:69ed209b598ad
SUMMARY:Spontan Sunday afternoon sailing
DESCRIPTION:A very spontan decision to go out sailing on this beautiful Sun
 day afternoon.
 Meteo suisse promises us some wind between 2 and 4\, so l
 et's see if they can keep up that promise.
 &nbsp\;
LOCATION:Mythenquai\, Zurich\, 8002 Zurich\, Switzerland
DTSTART:20240616T143000Z
DTEND:20240616T163000Z
DTSTAMP:20240616T100531Z
ORGANIZER;CN=ZISC Events:MAILTO:info@zisc.club
GEO:47.361232;8.535692
X-APPLE-STRUCTURED-LOCATION;VALUE=URI;X-ADDRESS=Mythenquai\, Zurich\, 8002 
 Zurich\, Switzerland;X-APPLE-RADIUS=72;X-TITLE=Hafen Enge:47.361232;8.5356
 92
END:VEVENT
END:VCALENDAR